BEGIN:VCALENDAR
VERSION:2.0
PRODID:spatie/icalendar-generator
DESCRIPTION:Events from OXFORD SPEEDWAY
X-WR-CALDESC:Events from OXFORD SPEEDWAY
REFRESH-INTERVAL;VALUE=DURATION:PT1440M
X-PUBLISHED-TTL:PT1440M
BEGIN:VTIMEZONE
TZID:Etc/GMT+0
BEGIN:STANDARD
DTSTART:20250730T150000Z
TZOFFSETFROM:+0000
TZOFFSETTO:+0000
END:STANDARD
END:VTIMEZONE
BEGIN:VTIMEZONE
TZID:UTC
BEGIN:STANDARD
DTSTART:20250726T112739Z
TZOFFSETFROM:+0000
TZOFFSETTO:+0000
END:STANDARD
END:VTIMEZONE
BEGIN:VEVENT
UID:8-6
DTSTAMP:20260422T112739Z
SUMMARY:Oxford Chargers V Middlesbrough Bears (National Development League)
LOCATION:Oxford Stadium
ORGANIZER;CN=LFHOxfordSpeedway:MAILTO:leon@foster-hill.org
DTSTART;TZID=Etc/GMT+0:20260426T150000
DTEND;TZID=Etc/GMT+0:20260426T170000
X-ALT-DESC;FMTTYPE=TEXT/HTML:
CATEGORIES:Chargers
URL;VALUE=URI:https://oxfordspeedway.club/mc-events/oxford-chargers-v-middl
 esbrough-bears-national-development-league/
METHOD:PUBLISH
END:VEVENT
END:VCALENDAR