BEGIN:VCALENDAR
VERSION:2.0
PRODID:spatie/icalendar-generator
DESCRIPTION:Events from OXFORD SPEEDWAY
X-WR-CALDESC:Events from OXFORD SPEEDWAY
REFRESH-INTERVAL;VALUE=DURATION:PT1440M
X-PUBLISHED-TTL:PT1440M
BEGIN:VTIMEZONE
TZID:Etc/GMT+0
BEGIN:STANDARD
DTSTART:20250726T193000Z
TZOFFSETFROM:+0000
TZOFFSETTO:+0000
END:STANDARD
END:VTIMEZONE
BEGIN:VTIMEZONE
TZID:UTC
BEGIN:STANDARD
DTSTART:20250726T131806Z
TZOFFSETFROM:+0000
TZOFFSETTO:+0000
END:STANDARD
END:VTIMEZONE
BEGIN:VEVENT
UID:7-5
DTSTAMP:20260422T131806Z
SUMMARY:Oxford Cheetahs V Plymouth Gladiators (BSN Series)
LOCATION:Oxford Stadium
ORGANIZER;CN=LFHOxfordSpeedway:MAILTO:leon@foster-hill.org
DTSTART;TZID=Etc/GMT+0:20260422T193000
DTEND;TZID=Etc/GMT+0:20260422T203000
X-ALT-DESC;FMTTYPE=TEXT/HTML:
CATEGORIES:Cheetahs
URL;VALUE=URI:https://oxfordspeedway.club/mc-events/oxford-cheetahs-v-plymo
 uth-gladiators-bsn-series/
METHOD:PUBLISH
END:VEVENT
END:VCALENDAR